Workbook

Sheet ALL SERVICE
C1: New SITC Container Lines Vietnam Co. Ltd
C2: The METT Building - Floor 16 - 15 Tran Bach Dang Street, Quarter 3, An Khanh Ward, Ho Chi Minh City
C3: Tel: +84-28-54047415 Fax: +84-28-54047420 Website: www.sitc.com
A4: SCHEDULE SUMMARY
A6: Lane | B6: MON | C6: TUE | D6: WED | E6: THU | F6: FRI | G6: SAT | H6: SUN | I6: MON | J6: TUE | K6: WED | L6: THU | M6: FRI | N6: SAT | O6: SUN | P6: MON | Q6: TUE | R6: WED | S6: THU | T6: FRI | U6: SAT | V6: SUN | W6: Color | X6: Country
A7: VTX8 | C7: HCM | G7: CNXMN | K7: JPMOJ | L7: JPOSA | M7: JPUKB | X7: HOCHIMINH
A8: VTX6 | D8: HCM | G8: CNSHK | L8: JPTYO | M8: JPYOK | N8: JPKWS | O8: JPNGO | X8: JAPAN
A9: VTX5-N | D9: HCM | G9: CNNSA | K9: JPHKT | L9: JPOSA | M9: JPUKB | P9: CNLYG | S9: CNTAO | X9: CHINA
A10: CBX2-S | D10: PAP | G10: MYPKG | K10: BDCGP | O10: MMTLA | X10: KOREA
A11: CBX2-N | E11: PAP | I11: CNXMN | L11: KRINC | N11: CNTXG | P11: CNTAO | X11: THAILAND
A12: CVM-S | E12: HCM | H12: IDBAT | K12: MYKCH | X12: CAMBODIA
A13: CMI2.S | F13: PAP | I13: IDJKT | M13: MYBTU | X13: PHILIPPINE
A14: CMI2.N | F14: TCHP | I14: CNYPG | K14: CNQZH | X14: MALAYSIA
A15: VTX2-N | G15: HCM | L15: CNNGB | O15: CNSHA | Q15: JPNGO | R15: JPTYO | S15: JPYOK | X15: INDONESIA
A16: VTX1-S | G16: HCM | H16: KHSHV | K16: THLCH | X16: MYANMAR
A17: CVS2 | G17: HCM | M17: CNTAG | N17: CNSHA | Q17: JPOSA | R17: JPUKB | X17: BANGLADESH
A18: CKV2 | G18: HCM | I18: KHSHV | L18: THLCH
A19: CVM.N | H19: PAP | K19: CNQZH | M19: CNNSA | N19: CNSHK
A20: VTX3-N | H20: HCM | K20: CNSHK | P20: JPNGO | Q20: JPTYO | R20: JPYOK
A21: VTX4 | H21: PAP | K21: PHBTG | M21: PHMNN | Q21: CNNSA | R21: CNSHK

Sheet JAPAN
C1: New SITC Container Lines Vietnam Co. Ltd
C2: The METT Building - Floor 16 - 15 Tran Bach Dang Street, Quarter 3, An Khanh Ward, Ho Chi Minh City
C3: Tel: +84-28-54047415 Fax: +84-28-54047420 Website: www.sitc.com
A5: SCHEDULE SUMMARY
A7: Lane | B7: MON | C7: TUE | D7: WED | E7: THU | F7: FRI | G7: SAT | H7: SUN | I7: MON | J7: TUE | K7: WED | L7: THU | M7: FRI | N7: SAT | O7: SUN | P7: MON | Q7: TUE | R7: WED | S7: THU
A8: VTX8 | C8: HCM | K8: JPSMZ | L8: JPOSA | M8: JPUKB
A9: VTX6 | D9: HCM | L9: JPTYO | M9: JPYOK | N9: JPKWS | O9: JPNGO
A10: VTX5-N | D10: HCM | K10: JPHKT | L10: JPOSA | M10: JPUKB
A11: VTX2-N | G11: HCM | Q11: JPNGO | R11: JPTYO | S11: JPYOK
A12: CVS2 | G12: HCM | P12: JPOSA | Q12: JPUKB
A13: VTX3-N | H13: HCM | K13: CNSHK | P13: JPNGO | Q13: JPTYO | R13: JPYOK

Sheet CHINA
C1: New SITC Container Lines Vietnam Co. Ltd
C2: The METT Building - Floor 16 - 15 Tran Bach Dang Street, Quarter 3, An Khanh Ward, Ho Chi Minh City
C3: Tel: +84-28-54047415 Fax: +84-28-54047420 Website: www.sitc.com
A5: SCHEDULE SUMMARY
A7: Lane | B7: MON | C7: TUE | D7: WED | E7: THU | F7: FRI | G7: SAT | H7: SUN | I7: MON | J7: TUE | K7: WED | L7: THU | M7: FRI | N7: SAT | O7: SUN | P7: MON | Q7: TUE | R7: WED | S7: THU
A8: VTX8 | C8: HCM | G8: CNXMN
A9: VTX6 | D9: HCM | G9: CNSHK
A10: VTX5-N | D10: HCM | G10: CNNSA | P10: CNLYG | S10: CNTAO
A11: CBX2-N | E11: PAP | I11: CNXMN | N11: CNTXG | P11: CNTAO
A12: VTX2-N | G12: HCM | M12: CNNGB | O12: CNSHA
A13: CVM.N | H13: PAP | K13: CNQZH | M13: CNNSA | N13: CNSHK
A14: CVS2 | G14: HCM | M14: CNTAG | N14: CNSHA
A15: VTX3-N | H15: HCM | K15: CNSHK
A16: VTX4 | H16: PAP | Q16: CNNSA | R16: CNSHK

Sheet KOREA
C1: New SITC Container Lines Vietnam Co. Ltd
C2: The METT Building - Floor 16 - 15 Tran Bach Dang Street, Quarter 3, An Khanh Ward, Ho Chi Minh City
C3: Tel: +84-28-54047415 Fax: +84-28-54047420 Website: www.sitc.com
A5: SCHEDULE SUMMARY
A7: Lane | B7: MON | C7: TUE | D7: WED | E7: THU | F7: FRI | G7: SAT | H7: SUN | I7: MON | J7: TUE | K7: WED | L7: THU | M7: FRI | N7: SAT | O7: SUN | P7: MON | Q7: TUE | R7: WED | S7: THU
A8: CBX2-N | E8: PAP | L8: KRINC

Sheet GENERAL
C2: New SITC Container Lines Vietnam Co. Ltd
C3: The METT Building - Floor 16 - 15 Tran Bach Dang Street, Quarter 3, An Khanh Ward, Ho Chi Minh City
C4: Tel: +84-28-54047415 Fax: +84-28-54047420 Website: www.sitc.com
A5: ALL SERVICE OF SITC CONTAINER LINES HOCHIMINH
A6: STT | B6: Service | C6: SOUTH/NORTH | D6: ETD | E6: Rotation (please click on below link for quick navigation to each service's schedule)
A7: 1 | B7: VTX8 | C7: North Bound | D7: TUESDAY | E7: CAT LAI/ XIAMEN / MOJI / OSAKA / KOBE
A8: 2 | B8: VTX6 | C8: North Bound | D8: WEDNESDAY | E8: CAT LAI/ SHEKOU/ TOKYO/ YOKOHAMA/ NAGOYA
A9: 3 | B9: VTX5 | C9: North Bound | D9: WEDNESDAY | E9: CAT LAI / NANSHA / HAKATA / OSAKA / KOBE / LIANYUNGANG / QINGDAO
A10: 4 | B10: CBX2.S | C10: South Bound | D10: THURSDAY | E10: PHUOC AN / PORT KLANG / CHATTOGRAM / YANGON
A11: 5 | B11: CBX2.N | C11: North Bound | D11: THURSDAY | E11: PHUOC AN / XIAMEN / INCHON / TIANJIN / QINGDAO
A12: 6 | B12: VTX1S | C12: South Bound | D12: FRIDAY | E12: CAT LAI / SIHANOUKVILLE / LAEM CHABANG
A13: 7 | B13: CMI2.S | C13: South Bound | D13: FRIDAY | E13: PHUOC AN/ JAKARTA/ BINTULU
A14: 8 | B14: CMI2.N | C14: North Bound | D14: FRIDAY | E14: PHUOC AN/ YANGPU/ QINZHOU
A15: 9 | B15: VTX2N | C15: North Bound | D15: SATURDAY | E15: CAT LAI / NINGBO / SHANGHAI / NAGOYA / TOKYO / YOKOHAMA
A16: 10 | B16: CVS2 | C16: North Bound | D16: SATURDAY | E16: CAT LAI / TAICANG / SHANGHAI / OSAKA / KOBE
A17: 11 | B17: VTX4 | C17: North Bound | D17: SUNDAY | E17: PHUOC AN / BATANGAS / MANILA NORTH/ NANSHA/ SHEKOU
A18: 12 | B18: VTX3 | C18: North Bound | D18: SUNDAY | E18: CAT LAI / SHEKOU / NAGOYA / TOKYO / KAWASAKI / YOKOHAMA
... A21: 15 | B21: CVM.N | C21: North Bound | D21: SUNDAY | E21: PHUOC AN/ QINZHOU/ NANSHA/ SHEKOU
A23: CHINA PORTS (VIA SHANGHAI) | C23: NANJING, NANTONG, CHANGZHOU,ZHANGJIAGANG, TAICANG, MA'ANSHAN, TAIZHOU,ZHENJIANG, YANGZHOU, CHANGSHU, ANQING, TONGLING, CHIZHOU, HEFEL, ANJI, JIAXING, WUHU, JIANGYIN, KUNSHAN, SUZHOU, WUJIANG, WUXI, HANGZHOU, WUHAN, CHONGQING, CHENDU…
A24: JAPAN PORTS (VIA SHANGHAI) | B24: Tokyo; Yokkohama, Hakata, Moji, Shimizu, Chiba | C24: HAKATA, MOJI, YOKKAICHI, SHIMIZU, MATSUYAMA, YOKOHAMA, NAGOYA, TOKYO
A26: OUTBOUND LOCAL CHARGE
A27: ITEM | C27: New Quantum (VND) (SITC)
A28: THC | B28: 20GP/ 20HC | C28: 3930000
B29: 40GP/ 40HC | C29: 6020000
B30: 20RF/ 20TK | C30: 5230000
B31: 40HR/ 40TK | C31: 7850000
B32: 20FR/ 20OT | C32: 5630000
B33: 40FR/ 40OT | C33: 8770000
B34: 45'HC | C34: 7330000
A35: SEAL | C35: 250000
A36: DOC | C36: 1,150,000/SET
A37: TLX/SWB | C37: 790,000/SET
A38: AFS | C38: 700000/SET
A39: AFA | C39: 1050000/time
A40: ABOVE TARIFF INCLUED TO VAT
A41: Effective date: Effective date: From April 06th, 2026 (Based on POL ETD)

Sheet NSE -SKIP HCM
D1: SITC Vietnam Co., Ltd. HCM Branch
D2: 193 Dinh Tien Hoang, District 1, Hochiminh City, Vietnam
D3: Tel: 84-8-54047415 Fax: 84-8-54047420 Website: www.sitc.com
A5: TERMINAL:
A6: Laem Chabang: C3 or B5 (depend on occupancy)--LHIT: Laem Chabang International Terminal
A7: Lat Krabang and BMTP via Laem Chabang: transit by barge
A8: Manila North: MNT terminal / MANILA INT'L CONTAINER TERMINALS, INC.
A9: Qingdao: Qingdao Qiangwan Container Terminal
A10: Busan: Hutchison Busan CNTR Terminal
A11: Shanghai: WAIGAO QIAO phase number 1.
A13: FTS DIRECT SERVICE : | D13: Ho Chi Minh-Laem Chabang (3)-Manila North(9)-Qingdao(15)-Busan(17)- Shanghai (19)
A14: VESSEL | C14: VOY | D14: ETD | E14: HKG | G14: SHE | I14: NBO
E15: 2 days | G15: 3 days | I15: 5 days
A16: SITC DALIAN | C16: 911N | D16: 39834 | G16: =D16+3 -> 39837
A17: SITC KOBE | C17: 479N | D17: =D16+7 -> 39841 | G17: =D17+3 -> 39844
A18: SITC QINGDAO | C18: 799N | D18: =D17+7 -> 39848 | G18: =D18+3 -> 39851
A19: SITC DALIAN | C19: 913N | D19: =D18+9 -> 39857 | G19: =D19+3 -> 39860
A20: SITC KOBE | C20: 481N | D20: =D18+14 -> 39862 | G20: -
A21: SITC QINGDAO | C21: 801N | D21: =D20+7 -> 39869 | G21: SKIP
A22: SITC KOBE | C22: 483N | D22: =D21+7 -> 39876 | G22: =D22+3 -> 39879
A23: SITC DALIAN | C23: 917N | D23: =D22+7 -> 39883 | G23: =D23+3 -> 39886
A24: SITC QINGDAO | C24: 803N | D24: =D23+7 -> 39890 | G24: =D24+3 -> 39893
A25: SITC KOBE | C25: 485N | D25: =D24+7 -> 39897 | G25: =D25+3 -> 39900
A26: SITC DALIAN | C26: 919N | D26: =D25+7 -> 39904 | G26: =D26+3 -> 39907
A27: SITC QINGDAO | C27: 805N | D27: =D26+7 -> 39911 | G27: =D27+3 -> 39914
A28: SITC KOBE | C28: 487N | D28: =D27+7 -> 39918 | G28: =D28+3 -> 39921
A29: SITC DALIAN | C29: 921N | D29: =D28+7 -> 39925 | G29: =D29+3 -> 39928
A30: SITC QINGDAO | C30: 807N | D30: =D29+7 -> 39932 | G30: =D30+3 -> 39935
A31: SITC KOBE | C31: 489N | D31: =D30+7 -> 39939 | G31: =D31+3 -> 39942
A32: SITC DALIAN | C32: 923N | D32: =D31+7 -> 39946 | G32: =D32+3 -> 39949
A33: SITC QINGDAO | C33: 809N | D33: =D32+8 -> 39954 | E33: =D33+2 -> 39956 | G33: =D33+3 -> 39957
A34: SITC KOBE | C34: 491N | D34: =D33+7 -> 39961 | E34: =D34+2 -> 39963 | G34: =D34+3 -> 39964
A35: SITC DALIAN | C35: 925N | D35: =D34+7 -> 39968 | E35: =D35+2 -> 39970 | G35: =D35+3 -> 39971
A36: SITC QINGDAO | C36: 811N | D36: =D35+7 -> 39975 | E36: =D36+2 -> 39977 | G36: =D36+3 -> 39978
A37: SITC KOBE | C37: 493N | D37: =D36+7 -> 39982 | E37: =D37+2 -> 39984 | G37: =D37+3 -> 39985
A38: SITC DALIAN | C38: 927N | D38: =D37+7 -> 39989 | E38: =D38+2 -> 39991 | G38: =D38+3 -> 39992
A39: SITC QINGDAO | C39: 813N | D39: =D38+7 -> 39996 | E39: =D39+2 -> 39998 | G39: =D39+3 -> 39999
A40: SITC KOBE | C40: 495N | D40: =D39+7 -> 40003 | E40: =D40+2 -> 40005 | G40: =D40+3 -> 40006
A41: SITC DALIAN | C41: 929N | D41: =D40+7 -> 40010 | E41: =D41+2 -> 40012 | G41: =D41+3 -> 40013
A42: SITC QINGDAO | C42: 815N | D42: =D41+7 -> 40017 | E42: =D42+2 -> 40019 | G42: =D42+3 -> 40020
...

Sheet CONTACT LIST
C1: New SITC Container Lines Vietnam Co. Ltd
C2: The METT Building - Floor 16 - 15 Tran Bach Dang Street, Quarter 3, An Khanh Ward, Ho Chi Minh City
C3: Tel: +84-28-54047415 Fax: +84-28-54047420 Website: www.sitc.com
A6: For further information & booking inquiries, please contact :
A7: Name | B7: EXT | C7: Phone | D7: Email
A8: SALES AND MARKETING TEAM
A9: Mr. Quốc Bình | B9: 108 | C9: 0903.824.676 | D9: binh@sitc.vn
A10: Ms. Thuy Kieu - Lyna | B10: 112 | C10: 0974.272.499 | D10: lyna@sitc.vn
A11: Mr. Anh Khoa | B11: 109 | C11: 0906.434.738 | D11: sales.hcm@sitc.vn
A12: Mr. Đức Vinh | B12: 117 | C12: 0938.529.748 | D12: sales.hcm@sitc.vn
A13: Ms. Thanh Tiền - Dolly | B13: 149 | C13: 0984.546.268 | D13: mkt.hcm@sitc.vn | E13: Import sales
A14: BOOKING TEAM
A15: Ms. Tuyet - Suri | B15: 115 | C15: 0932.592.562 | D15: export2.hcm@sitc.vn
A16: Mr. Hoàng - Leo | B16: 181 | C16: 0868859316 | D16: export1.hcm@sitc.vn
A17: Ms. Quế Anh | B17: 155 | C17: 0765633378 | D17: export1.hcm@sitc.vn
A18: Ms. Tuyển - Tina | B18: 156 | C18: 0935.859.408 | D18: export1.hcm@sitc.vn
A19: Ms. Hiên - Sunmy | B19: 144 | C19: 0934.279.527 | D19: export2.hcm@sitc.vn
A20: DOCUMENT TEAM
A21: Ms. Thảo - Amber | B21: 154 | C21: 0934.363.382 | D21: export1.hcm@sitc.vn
A22: Phạm Tuyển – Ms. Tina | B22: 156 | C22: 0935859408 | D22: export1.hcm@sitc.vn
A23: Ms. Huyền - Iris | B23: 158 | C23: 0932.046.594 | D23: export1.hcm@sitc.vn
A24: Le Nhat Linh – Ms. Kylie | B24: 137 | C24: 0916.661.765 | D24: export2.hcm@sitc.vn
A25: Mr Thăng - Win | B25: 177 | C25: 0909.01.3900 | D25: export2.hcm@sitc.vn
A26: Mr Minh - STEVE | B26: 114 | C26: 0981698045 | D26: export2.hcm@sitc.vn
A27: Urgent case of Booking & Document
A28: Ms Xuyến - Emerald | C28: 0907.522.272 | D28: xuyenvk@sitc.vn
A29: Ms Phương - Kate | C29: 0978.168.828 | D29: phuongdtd@sitc.vn

Sheet TERMINAL
D1: New SITC Container Lines Vietnam Co. Ltd
D2: 20 FLOOR-Lim Tower 3- 29A Nguyen Dinh Chieu street, Dist. 1, Hochiminh City, Vietnam
D3: Tel: +84-28-54047415 Fax: +84-28-54047420 Website: www.sitc.com
B5: 1. JTV1 DIRECT SERVICE: HO CHI MINH(TCTT (VNCMP) - Tokyo-Shimizu- Yokohama- Tokyo- Pusan
B6: PORT | C6: TERMINAL
B7: VUNGTAU | C7: VUNG TAU/TCTT (VNCMP)
B8: TOKYO | D8: OHI NO.3-4 TERMINAL (TICT MOL)
B9: SHIMIZU | D9: Shimizu terminal
B10: YOKOHAMA | D10: MINAMI HONMOKU MC-1 2 3
B13: 2. JTV2 DIRECT SERVICE: HO CHI MINH(CATLAI) - Osaka-Kobe- Yokkaichi- Nagoya
B14: PORT | C14: TERMINAL
B15: HOCHIMINH | C15: CATLAI PORT
B16: OSAKA | D16: NANKO No.8 C-8
B17: KOBE | D17: KICT PORT ISLAND (C-15 16 17)
B18: YOKKAICHI | D18: Yokkaichi terminal
B19: NAGOYA | D19: NAGOYA CONTAINER BERTH
B22: 3. VTX1N DIRECT SERVICE: HOCHIMINH- NINGBO -SHANGHAI- SAKAISENBOKU -OSAKA-KOBE-PUSAN
B23: PORT | C23: TERMINAL
B24: HOCHIMINH | C24: CATLAI PORT
B25: NINGBO | C25: NCM | D25: NCM (daxie terminal)
B26: SHANGHAI | C26: WGQ # 1 | D26: WAIGAO QIAO 1
B27: SAKAISENBOKU | D27: SUKEMATSU NO.8
B28: OSAKA | D28: YUMESHIMA C 10-12
B29: KOBE | D29: PC 14 TERMINAL
B30: PUSAN | D30: DONGPU CONTAINER TERMINAL
B33: 4. VTX2N DIRECT SERVICE: HOCHIMINH-NINGBO-SHANGHAI-NAGOYA-TOKYO-YOKOHAMA
B34: PORT | C34: TERMINAL
B35: HOCHIMINH | C35: CATLAI PORT
B36: NINGBO | C36: NB3 | D36: NB3(NINGBO BEILUN INTERNATIONAL CONTAINER TERMINAL PH3)
B37: SHANGHAI | C37: WGQ # 4 | D37: SHANGHAI WAIGAO QIAO #4 (SHANGHAI EAST CONTAINER TERMINAL)
B38: NAGOYA | D38: TOBISHIMA FUTO KITA CONTAINER TERMINAL
B39: TOKYO | D39: AOMI A-3 TERMINAL
B40: YOKOHAMA | D40: HOMOKU A-5
B43: 5. VTX3N DIRECT SERVICE: HOCHIMINH- XIAMEN - NAGOYA -TOKYO- KAWASAKI -YOKOHAMA
B44: PORT | C44: TERMINAL
B45: HOCHIMINH | C45: CATLAI PORT
B46: XIAMEN | D46: HCT - HAITIAN TERMINAL
B47: NAGOYA | D47: Nabeta Container terminal
B48: TOKYO | D48: Aomi A-3
B49: KAWASAKI | D49: Kawasaki Port Container Terminal
...

Sheet Transship Service (Shanghai)
A1: SITC Conatiner Lines Co., Ltd Branch Tariff for CRD Import and Outport | L1: Latest update
A2: Port Name | C2: Terminal operator (Company Name) | D2: Terminal Address | E2: ETD Shanghai | L2: Frequency (per week) | M2: Transit Time (Day) Subject to Custom clearance | N2: Crane Capacity (Ton)
E3: Mon | F3: Tue | G3: Wed | H3: Thu | I3: Fri | J3: Sat | K3: Sun
A4: Taicang | B4: 太倉 | C4: Suzhou Modern Terminals Co.Ltd 苏州现代货箱码头有限公司 | D4: No.1, East Tonggang Road, Fuqiao Town, Taicang 太仓市浮桥镇通港东路1号 | G4: Yes | J4: Yes | L4: 2 | M4: 1~2 | N4: 40T
A5: Nantong | B5: 南通 | C5: Nantong Port Container Terminal Co.Ltd 南通集装箱码头 | D5: No.259, Mid Yangtze River Road, Nantong 江苏省南通市长江中路259号 | E5: Yes | F5: Yes | G5: Yes | H5: Yes | I5: Yes | L5: 5 | M5: 2~3 | N5: 40T
A6: Zhangjiagang | B6: 張家港 | C6: Win Hanverky Container Terminal Co.Ltd 永嘉码头 | D6: Bottom Jianghai Road, Jingang Town 金港镇江海北路底 | E6: Yes | F6: Yes | G6: Yes | H6: Yes | I6: Yes | L6: 5 | M6: 2~3 | N6: 40T
A7: Changshu | B7: 常熟 | C7: Grand China Container Terminal Co.Ltd 新华码头 | D7: No.1, Road No.1 of Port District, Changshu 常熟港区一路1号 | G7: Yes | I7: Yes | L7: 2 | M7: 2~3 | N7: 40T
A8: Jiangyin | B8: 江陰 | C8: Jiangyin Sunan Container Terminal Co.Ltd 江阴苏南国际集装箱码头 | D8: Lingang Avenue, Lingang New City, Jiangyin 江阴临港新城新港大道 | F8: Yes | H8: Yes | I8: Yes | L8: 3 | M8: 2~3 | N8: 40T
A9: Zhenjiang | B9: 鎮江 | C9: Dagang Terminal Co.Ltd 大港码头 | D9: Dagang New District, Zhenjiang 镇江大港新区 | F9: Yes | H9: Yes | I9: Yes | J9: Yes | L9: 4 | M9: 3~4 | N9: 40T
A10: Changzhou | B10: 常州 | C10: Changzhou Lu'anzhou Terminal Co.Ltd 常州录安州码头 | D10: Lu'anzhou Avenue, Changzhou 常州市录安州大道 | F10: Yes | G10: Yes | I10: Yes | L10: 3 | M10: 2~3 | N10: 40T
A11: Yangzhou | B11: 揚州 | C11: Yangzhou Ocean Terminal Co.Ltd 扬州远洋码头 | D11: No.10, South Yangtze Jiang Road, Yangzhou 扬州市扬子江南路10号 | E11: Yes | F11: Yes | G11: Yes | H11: Yes | I11: Yes | L11: 5 | M11: 3~4 | N11: 40T
A12: Nanjing | B12: 南京 | C12: Longtan Terminal Co.Ltd 龙潭码头 | D12: No.1-2, Longtan Logistics Park, Qixia District, Nanjing 南京市栖霞区龙潭物流园区1-2号 | E12: Yes | F12: Yes | G12: Yes | H12: Yes | I12: Yes | L12: 5 | M12: 3~4 | N12: 40T
A13: Hefei | B13: 合肥 | C13: Anhui Hefei International Container Terminal Co.Ltd 安徽合肥港国际集装箱码头有限公司 | D13: No.1888, East Fanhua Avenue, Baohe Industrial Zone, Hefei 合肥市包河工业区繁华大道东段1888号 | F13: Yes | I13: Yes | L13: 2 | M13: 5~6 | N13: 40T
A14: Maanshan | B14: 馬鞍山 | C14: Tianshun Terminal Co.Ltd 天顺码头 | D14: No.1299, Middel Yanjiang Avenue, Jinjiazhuang District, Ma'anshan 马鞍山市金家庄区延江大道中段1299号 | E14: yes | G14: yes | I14: Yes | L14: 3 | M14: 3~4 | N14: 30T
A15: Wuhu | B15: 蕪湖 | C15: Zhu Jia Qiao Terminal Co.Ltd 朱家桥码头 | D15: Zhu Jia Qiao Trading Termina, Gangyi Road, Wuhu 芜湖市港一路朱家桥外贸码头 | E15: Yes | H15: yes | J15: yes | L15: 3 | M15: 4 | N15: 40T
A16: Anqing | B16: 安慶 | C16: Anqing Sailing Terminal Co.Ltd 安庆远航码头 | D16: No.11, Guangjiyu Road, Anqing 安庆市广济圩路11号 | G16: Yes | I16: Yes | L16: 2 | M16: 3~4 | N16: 40T
A17: Chizhou | B17: 池州 | C17: Chizhou Yuanhang Terminal Co.Ltd 池州远航码头 | D17: No.8, Yanjiang Avenue, Chizhou Economic Development Zone 池州经济开发区沿江大道8号 | G17: Yes | I17: Yes | L17: 2 | M17: 3~4 | N17: 40T
A18: Tongling | B18: 銅陵 | C18: Tonglin Changjiang Trading Terminal Co.Ltd 铜陵长江外贸码头 | D18: Henggang, Tongling 铜陵市横港 | G18: Yes | I18: Yes | L18: 2 | M18: 3~4 | N18: 40T
A19: Jiujiang | B19: 九江 | C19: Jiujiang Terminal Co.Ltd 九江港 | D19: No.1, Bingang Road, Gangcheng Avenue, Xigang District, Jiujiang 九江市城西港区港城大道68号滨港路1号 | G19: Yes | J19: Yes | L19: 1~2 | M19: 4 | N19: 40T
A20: Huangshi | B20: 黄石 | C20: Huangshi Terminal Co.Ltd 黄石港 | D20: No.7, Jiaotong Road, Huangshi, Hubei 湖北省黄石市交通路7号 | I20: Yes | L20: 1 | M20: 6 | N20: 25T
A21: Nanchang | B21: 南昌 | C21: Nanchang Terminal Co.Ltd 南昌港 | D21: Baishuihu Industrial Park, Nanchang Economic Development Zone 南昌市经济技术开发区白水湖工业园 | F21: Yes | G21: Yes | L21: 1~2 | M21: 10~11 | N21: 32T
A22: Wuhan | B22: 武漢 | C22: First/Second Phase of Yangluo Terminal Co.Ltd 阳逻港Ⅰ期/Ⅱ期 | D22: No.8 & No.9, Pingjiang Road, Yangluo Development Zone, Wuhan 武汉阳逻开发区平江路特8号/9号 | G22: Yes | H22: Yes | I22: Yes | J22: Yes | L22: 4~6 | M22: 6 | N22: 45T
A23: Changsha | B23: 長沙 | C23: Changsha Terminal Co.Ltd 长沙港 | D23: No.80, Xingang Road, Kaifu District, Changsha 长沙市开福区新港路80号 | H23: Yes | I23: Yes | J23: Yes | K23: Yes | L23: 4~6 | M23: 6~7 | N23: 35T
A24: Yueyang | B24: 岳陽 | C24: Yueyang New Terminal Co.Ltd 岳阳新港 | D24: Chenglingji New Port, Yongji Township, Yunxi District, Yueyang, Hunan 湖南省岳阳市云溪区永济乡城陵矶新港 | H24: Yes | I24: Yes | J24: Yes | K24: Yes | L24: 4~6 | M24: 7 | N24: 35T
A25: Yichang | B25: 宜昌 | C25: Yichang Terminal Co.Ltd 宜昌港 | D25: No.162, Yanjiang Avenue, Yichang 宜昌市沿江大道162号 | I25: Yes | L25: 1~2 | M25: 10 | N25: 40T
A26: Jingzhou | B26: 荆州 | C26: Jinzhou Terminal Co.Ltd 荆州港 | D26: No.6, Linjiang Road, Shashi District, Jinzhou 荆州市沙市区临江路6号 | I26: Yes | L26: 1~2 | M26: 7~8 | N26: 45T
A27: Chongqing | B27: 重慶 | C27: Cuntan Terminal Co.Ltd 寸滩码头 | D27: No.306, Haier Road, Jiangbei District, Chongqing 重庆江北区海尔路306号 | E27: yes | F27: yes | G27: yes | H27: Yes | I27: yes | J27: yes | K27: Yes | L27: 20 | M27: 10~12 | N27: 35T
A28: Luzhou | B28: 濾州 | C28: Luzhou Terminal Co.Ltd 泸州码头 | D28: Gaoba Industrial Park, Luzhou, Sichuan 四川省泸州市高坝工业园 | F28: yse | J28: yse | L28: 5 | M28: 11~13 | N28: 35T
A29: * It is necessary about 2.5days for Custom clearnace in Shanghai.
A31: ICD Name | C31: ICD Operator | D31: ICD Address | E31: ETD 2nd Transship port | L31: Frequency (per week) | M31: Transit Time (Day) Subject to Custom clearance | N31: Crane Capacity (Ton)
E32: Mon | F32: Tue | G32: Wed | H32: Thu | I32: Fri | J32: Sat | K32: Sun
A33: Chengdu By Train via SHA | B33: 成都 | C33: Szechwan Decheng Logistics Yard 四川德成物流堆场 | D33: Xiuchuan Road, Qingbaijiang Logistics Yard（inside Szechwan Logistics Yard, in front of Residences Station） 青白江物流园区绣川路（四川物流堆场内，城厢车站正对面） | E33: yes | G33: yes | I33: yes | L33: 3 | M33: 6 | N33: 30T
C34: Modern Logistics Co.Ltd, of China Railway No.8 Engineering Group 成都中铁八局现代物流 | D34: Modern Logistics Yard of China Railway No.8 Engineering Group（beside Residences Station） 中铁八局现代物流堆场（城厢车站旁） | E34: yes | G34: yes | I34: yes
A35: *The all kind of dangerous cargo are not acceptable to transport to Chengdu.
A36: REMARK:
A37: * The all dangerous cargo needs the approval of SITC Container Lines for loading it on the vessel.

Sheet DIRECT JAPAN
B2: DIRECT SERVICE TO JAPAN
A5: 1. VTV2 DIRECT SERVICE: HO CHI MINH(CAT LAI) - Nagoya- Tokyo- Yokohama
A6: VESSEL | B6: VOY | C6: ETD HCM Tuesday | D6: NAGOYA | E6: TOKYO | F6: YOKOHAMA
D7: =CHOOSE(WEEKDAY(D12, 2), "MON", "TUE", "WED", "THU", "FRI", "SAT", "SUN") -> MON | E7: =CHOOSE(WEEKDAY(E12, 2), "MON", "TUE", "WED", "THU", "FRI", "SAT", "SUN") -> TUE | F7: =CHOOSE(WEEKDAY(F12, 2), "MON", "TUE", "WED", "THU", "FRI", "SAT", "SUN") -> WED
C8: =CHOOSE(WEEKDAY(C9, 2), "MON", "TUE", "WED", "THU", "FRI", "SAT", "SUN") -> SAT | D8: 10 DAYS | E8: 12 DAYS | F8: 13 DAYS
A9: ='VTX2.N (SAT)'!A10 -> SITC MINGDE | B9: ='VTX2.N (SAT)'!B10 -> 2623 | C9: ='VTX2.N (SAT)'!C9 -> 46333 | D9: ='VTX2.N (SAT)'!G9 -> 46342 | E9: ='VTX2.N (SAT)'!H9 -> 46343 | F9: ='VTX2.N (SAT)'!I9 -> 46344
A10: ='VTX2.N (SAT)'!A11 -> SUNRISE DRAGON | B10: ='VTX2.N (SAT)'!B11 -> 2627 | C10: ='VTX2.N (SAT)'!C10 -> 46340 | D10: ='VTX2.N (SAT)'!G10 -> 46349 | E10: ='VTX2.N (SAT)'!H10 -> 46350 | F10: ='VTX2.N (SAT)'!I10 -> 46351
A11: ='VTX2.N (SAT)'!A12 -> SITC WENDE | B11: ='VTX2.N (SAT)'!B12 -> 2625 | C11: ='VTX2.N (SAT)'!C11 -> 46347 | D11: ='VTX2.N (SAT)'!G11 -> 46356 | E11: ='VTX2.N (SAT)'!H11 -> 46357 | F11: ='VTX2.N (SAT)'!I11 -> 46358
A12: ='VTX2.N (SAT)'!A13 -> SITC RUIDE | B12: ='VTX2.N (SAT)'!B13 -> 2625 | C12: ='VTX2.N (SAT)'!C12 -> 46354 | D12: ='VTX2.N (SAT)'!G12 -> 46363 | E12: ='VTX2.N (SAT)'!H12 -> 46364 | F12: ='VTX2.N (SAT)'!I12 -> 46365
A13: ='VTX2.N (SAT)'!A14 -> 0 | B13: ='VTX2.N (SAT)'!B14 -> 0 | C13: ='VTX2.N (SAT)'!C13 -> 46361 | D13: ='VTX2.N (SAT)'!G13 -> 46370 | E13: ='VTX2.N (SAT)'!H13 -> 46371 | F13: ='VTX2.N (SAT)'!I13 -> 46372
C14: ='VTX2.N (SAT)'!C14 -> 46368 | D14: ='VTX2.N (SAT)'!G14 -> 46377 | E14: ='VTX2.N (SAT)'!H14 -> 46378 | F14: ='VTX2.N (SAT)'!I14 -> 46379
A16: 2. VTV3 DIRECT SERVICE: HO CHI MINH(CATLAI) - Nagoya- Tokyo- Kawasaki- Yokohama
A17: VESSEL | B17: VOY | C17: ETD HCM Sunday | D17: NAGOYA | E17: TOKYO | F17: KAWASAKI | G17: YOKOHAMA
D18: =CHOOSE(WEEKDAY(D22, 2), "MON", "TUE", "WED", "THU", "FRI", "SAT", "SUN") -> MON | E18: =CHOOSE(WEEKDAY(E20, 2), "MON", "TUE", "WED", "THU", "FRI", "SAT", "SUN") -> TUE | F18: - | G18: =CHOOSE(WEEKDAY(G20, 2), "MON", "TUE", "WED", "THU", "FRI", "SAT", "SUN") -> WED
C19: =CHOOSE(WEEKDAY(C20, 2), "MON", "TUE", "WED", "THU", "FRI", "SAT", "SUN") -> SUN | D19: 8 days | E19: 9 days | F19: - | G19: 10 days
A20: ='VTX3.N (SUN) & CVS2 (SAT)'!A9 -> SITC RENDE | B20: ='VTX3.N (SUN) & CVS2 (SAT)'!B9 -> 2623N | C20: ='VTX3.N (SUN) & CVS2 (SAT)'!C9 -> 46327 | D20: ='VTX3.N (SUN) & CVS2 (SAT)'!E9 -> SKIP | E20: ='VTX3.N (SUN) & CVS2 (SAT)'!F9 -> 46336 | F20: - | G20: ='VTX3.N (SUN) & CVS2 (SAT)'!G9 -> 46337
A21: ='VTX3.N (SUN) & CVS2 (SAT)'!A10 -> SITC CHANGDE | B21: ='VTX3.N (SUN) & CVS2 (SAT)'!B10 -> 2623N | C21: ='VTX3.N (SUN) & CVS2 (SAT)'!C10 -> 46334 | D21: ='VTX3.N (SUN) & CVS2 (SAT)'!E10 -> 46342 | E21: ='VTX3.N (SUN) & CVS2 (SAT)'!F10 -> 46343 | F21: - | G21: ='VTX3.N (SUN) & CVS2 (SAT)'!G10 -> 46344
A22: ='VTX3.N (SUN) & CVS2 (SAT)'!A11 -> SITC FUJIAN | B22: ='VTX3.N (SUN) & CVS2 (SAT)'!B11 -> 2627 | C22: ='VTX3.N (SUN) & CVS2 (SAT)'!C11 -> 46341 | D22: ='VTX3.N (SUN) & CVS2 (SAT)'!E11 -> 46349 | E22: ='VTX3.N (SUN) & CVS2 (SAT)'!F11 -> 46350 | F22: - | G22: ='VTX3.N (SUN) & CVS2 (SAT)'!G11 -> 46351
A23: ='VTX3.N (SUN) & CVS2 (SAT)'!A12 -> SITC SHENGDE | B23: ='VTX3.N (SUN) & CVS2 (SAT)'!B12 -> 2625 | C23: ='VTX3.N (SUN) & CVS2 (SAT)'!C12 -> 46348 | D23: ='VTX3.N (SUN) & CVS2 (SAT)'!E12 -> 46356 | E23: ='VTX3.N (SUN) & CVS2 (SAT)'!F12 -> 46357 | F23: - | G23: ='VTX3.N (SUN) & CVS2 (SAT)'!G12 -> 46358
A24: ='VTX3.N (SUN) & CVS2 (SAT)'!A13 -> SITC RENDE | B24: ='VTX3.N (SUN) & CVS2 (SAT)'!B13 -> 2625 | C24: ='VTX3.N (SUN) & CVS2 (SAT)'!C13 -> 46355 | D24: ='VTX3.N (SUN) & CVS2 (SAT)'!E13 -> 46363 | E24: ='VTX3.N (SUN) & CVS2 (SAT)'!F13 -> 46364 | F24: - | G24: ='VTX3.N (SUN) & CVS2 (SAT)'!G13 -> 46365
A25: ='VTX3.N (SUN) & CVS2 (SAT)'!A14 -> SITC CHANGDE | B25: ='VTX3.N (SUN) & CVS2 (SAT)'!B14 -> 2625 | C25: ='VTX3.N (SUN) & CVS2 (SAT)'!C14 -> 46362 | D25: ='VTX3.N (SUN) & CVS2 (SAT)'!E14 -> 46370 | E25: ='VTX3.N (SUN) & CVS2 (SAT)'!F14 -> 46371 | F25: - | G25: ='VTX3.N (SUN) & CVS2 (SAT)'!G14 -> 46372
A27: 3. VTV5 DIRECT SERVICE: HO CHI MINH(CATLAI) - Hakata - Osaka - Kobe
A28: VESSEL | B28: VOY | C28: ETD HCM | D28: HAKATA | E28: OSAKA | F28: KOBE
D29: =CHOOSE(WEEKDAY(D31, 2), "MON", "TUE", "WED", "THU", "FRI", "SAT", "SUN") -> WED | E29: =CHOOSE(WEEKDAY(E31, 2), "MON", "TUE", "WED", "THU", "FRI", "SAT", "SUN") -> THU | F29: =CHOOSE(WEEKDAY(F31, 2), "MON", "TUE", "WED", "THU", "FRI", "SAT", "SUN") -> FRI
C30: =CHOOSE(WEEKDAY(C31, 2), "MON", "TUE", "WED", "THU", "FRI", "SAT", "SUN") -> WED | D30: 7 days | E30: 8 days | F30: 9 days
A31: ='VTX5.N (WED)'!A9 -> SITC JIADE | B31: ='VTX5.N (WED)'!B9 -> 2623N | C31: ='VTX5.N (WED)'!C9 -> 46330 | D31: ='VTX5.N (WED)'!E9 -> 46337 | E31: ='VTX5.N (WED)'!F9 -> 46338 | F31: ='VTX5.N (WED)'!G9 -> 46339
A32: ='VTX5.N (WED)'!A10 -> ZHONG GU NAN HAI | B32: ='VTX5.N (WED)'!B10 -> 2643 | C32: ='VTX5.N (WED)'!C10 -> 46337 | D32: ='VTX5.N (WED)'!E10 -> 46344 | E32: ='VTX5.N (WED)'!F10 -> 46345 | F32: ='VTX5.N (WED)'!G10 -> 46346
A33: ='VTX5.N (WED)'!A11 -> SITC HAINAN | B33: ='VTX5.N (WED)'!B11 -> 2627 | C33: ='VTX5.N (WED)'!C11 -> 46344 | D33: ='VTX5.N (WED)'!E11 -> 46351 | E33: ='VTX5.N (WED)'!F11 -> 46352 | F33: ='VTX5.N (WED)'!G11 -> 46353
A34: ='VTX5.N (WED)'!A12 -> ASL TAIPEI | B34: ='VTX5.N (WED)'!B12 -> 2645 | C34: ='VTX5.N (WED)'!C12 -> 46351 | D34: ='VTX5.N (WED)'!E12 -> 46358 | E34: ='VTX5.N (WED)'!F12 -> 46359 | F34: ='VTX5.N (WED)'!G12 -> 46360
A35: ='VTX5.N (WED)'!A13 -> SITC JIADE | B35: ='VTX5.N (WED)'!B13 -> 2625 | C35: ='VTX5.N (WED)'!C13 -> 46358 | D35: ='VTX5.N (WED)'!E13 -> 46365 | E35: ='VTX5.N (WED)'!F13 -> 46366 | F35: ='VTX5.N (WED)'!G13 -> 46367
C36: ='VTX5.N (WED)'!C14 -> 46365 | D36: ='VTX5.N (WED)'!E14 -> 46372 | E36: ='VTX5.N (WED)'!F14 -> 46373 | F36: ='VTX5.N (WED)'!G14 -> 46374
A38: 4. CVS2 DIRECT SERVICE: HO CHI MINH(CATLAI) - OSAKA - KOBE
A39: VESSEL | B39: VOY | C39: ETD HCM | D39: OSAKA | E39: KOBE
D40: =CHOOSE(WEEKDAY(D42, 2), "MON", "TUE", "WED", "THU", "FRI", "SAT", "SUN") -> MON | E40: =CHOOSE(WEEKDAY(E42, 2), "MON", "TUE", "WED", "THU", "FRI", "SAT", "SUN") -> TUE
C41: =CHOOSE(WEEKDAY(C42, 2), "MON", "TUE", "WED", "THU", "FRI", "SAT", "SUN") -> SAT | D41: 10 days | E41: 10 days
A42: ='VTX3.N (SUN) & CVS2 (SAT)'!I9 -> HONG AN | B42: ='VTX3.N (SUN) & CVS2 (SAT)'!J9 -> 2626 | C42: ='VTX3.N (SUN) & CVS2 (SAT)'!K9 -> 46333 | D42: ='VTX3.N (SUN) & CVS2 (SAT)'!N9 -> 46342 | E42: ='VTX3.N (SUN) & CVS2 (SAT)'!O9 -> 46343
A43: ='VTX3.N (SUN) & CVS2 (SAT)'!I11 -> KOTA NAZAR | B43: ='VTX3.N (SUN) & CVS2 (SAT)'!J11 -> 2646 | C43: ='VTX3.N (SUN) & CVS2 (SAT)'!K10 -> 46340 | D43: ='VTX3.N (SUN) & CVS2 (SAT)'!N10 -> 46349 | E43: ='VTX3.N (SUN) & CVS2 (SAT)'!O10 -> 46350
A44: ='VTX3.N (SUN) & CVS2 (SAT)'!I12 -> HONG AN | B44: ='VTX3.N (SUN) & CVS2 (SAT)'!J12 -> 2628 | C44: ='VTX3.N (SUN) & CVS2 (SAT)'!K11 -> 46347 | D44: ='VTX3.N (SUN) & CVS2 (SAT)'!N11 -> 46356 | E44: ='VTX3.N (SUN) & CVS2 (SAT)'!O11 -> 46357
A45: ='VTX3.N (SUN) & CVS2 (SAT)'!I13 -> SITC MACAO | B45: ='VTX3.N (SUN) & CVS2 (SAT)'!J13 -> 2627 | C45: ='VTX3.N (SUN) & CVS2 (SAT)'!K12 -> 46354 | D45: ='VTX3.N (SUN) & CVS2 (SAT)'!N12 -> 46363 | E45: ='VTX3.N (SUN) & CVS2 (SAT)'!O12 -> 46364
C46: ='VTX3.N (SUN) & CVS2 (SAT)'!K13 -> 46361 | D46: ='VTX3.N (SUN) & CVS2 (SAT)'!N13 -> 46370 | E46: ='VTX3.N (SUN) & CVS2 (SAT)'!O13 -> 46371
...

Sheet DIRECT CHINA
B3: DIRECT SERVICE TO CHINA
A6: 1. VTX2 DIRECT SERVICE: HO CHI MINH (CAT LAI) - Ningbo - Shanghai
A7: VESSEL | B7: VOY | C7: ETD HCM | D7: NINGBO | E7: SHANGHAI
D8: =CHOOSE(WEEKDAY(D10, 2), "MON", "TUE", "WED", "THU", "FRI", "SAT", "SUN") -> THU | E8: =CHOOSE(WEEKDAY(E10, 2), "MON", "TUE", "WED", "THU", "FRI", "SAT", "SUN") -> SAT
C9: =CHOOSE(WEEKDAY(C10, 2), "MON", "TUE", "WED", "THU", "FRI", "SAT", "SUN") -> SAT | D9: 5 DAYS | E9: 7 DAYS
A10: ='VTX2.N (SAT)'!A9 -> SITC RUIDE | B10: ='VTX2.N (SAT)'!B9 -> 2623 | C10: ='VTX2.N (SAT)'!C9 -> 46333 | D10: =C10+5 -> 46338 | E10: =C10+7 -> 46340
A11: ='VTX2.N (SAT)'!A10 -> SITC MINGDE | B11: ='VTX2.N (SAT)'!B10 -> 2623 | C11: ='VTX2.N (SAT)'!C10 -> 46340 | D11: =C11+5 -> 46345 | E11: =C11+7 -> 46347
A12: ='VTX2.N (SAT)'!A11 -> SUNRISE DRAGON | B12: ='VTX2.N (SAT)'!B11 -> 2627 | C12: ='VTX2.N (SAT)'!C11 -> 46347 | D12: =C12+5 -> 46352 | E12: =C12+7 -> 46354
A13: ='VTX2.N (SAT)'!A12 -> SITC WENDE | B13: ='VTX2.N (SAT)'!B12 -> 2625 | C13: ='VTX2.N (SAT)'!C12 -> 46354 | D13: =C13+5 -> 46359 | E13: =C13+7 -> 46361
A14: ='VTX2.N (SAT)'!A13 -> SITC RUIDE | B14: ='VTX2.N (SAT)'!B13 -> 2625 | C14: ='VTX2.N (SAT)'!C13 -> 46361 | D14: =C14+5 -> 46366 | E14: =C14+7 -> 46368
A16: 2. CVS2 DIRECT SERVICE: HO CHI MINH (CAT LAI) - Taicang - Shanghai
A17: VESSEL | B17: VOY | C17: ETD HCM | D17: TAICANG | E17: SHANGHAI
D18: =CHOOSE(WEEKDAY(D20, 2), "MON", "TUE", "WED", "THU", "FRI", "SAT", "SUN") -> FRI | E18: =CHOOSE(WEEKDAY(E20, 2), "MON", "TUE", "WED", "THU", "FRI", "SAT", "SUN") -> SAT
C19: =CHOOSE(WEEKDAY(C20, 2), "MON", "TUE", "WED", "THU", "FRI", "SAT", "SUN") -> SAT | D19: 6 days | E19: 7 days
A20: ='VTX3.N (SUN) & CVS2 (SAT)'!I9 -> HONG AN | B20: ='VTX3.N (SUN) & CVS2 (SAT)'!J9 -> 2626 | C20: ='VTX3.N (SUN) & CVS2 (SAT)'!K9 -> 46333 | D20: =C20+6 -> 46339 | E20: =C20+7 -> 46340
A21: ='VTX3.N (SUN) & CVS2 (SAT)'!I10 -> SITC MACAO | B21: ='VTX3.N (SUN) & CVS2 (SAT)'!J10 -> 2625 | C21: ='VTX3.N (SUN) & CVS2 (SAT)'!K10 -> 46340 | D21: =C21+6 -> 46346 | E21: =C21+7 -> 46347
A22: ='VTX3.N (SUN) & CVS2 (SAT)'!I11 -> KOTA NAZAR | B22: ='VTX3.N (SUN) & CVS2 (SAT)'!J11 -> 2646 | C22: ='VTX3.N (SUN) & CVS2 (SAT)'!K11 -> 46347 | D22: =C22+6 -> 46353 | E22: =C22+7 -> 46354
A23: ='VTX3.N (SUN) & CVS2 (SAT)'!I12 -> HONG AN | B23: ='VTX3.N (SUN) & CVS2 (SAT)'!J12 -> 2628 | C23: ='VTX3.N (SUN) & CVS2 (SAT)'!K12 -> 46354 | D23: =C23+6 -> 46360 | E23: =C23+7 -> 46361
A24: ='VTX3.N (SUN) & CVS2 (SAT)'!I13 -> SITC MACAO | B24: ='VTX3.N (SUN) & CVS2 (SAT)'!J13 -> 2627 | C24: ='VTX3.N (SUN) & CVS2 (SAT)'!K13 -> 46361 | D24: =C24+6 -> 46367 | E24: =C24+7 -> 46368
C25: ='VTX3.N (SUN) & CVS2 (SAT)'!K14 -> 46368 | D25: =C25+6 -> 46374 | E25: =C25+7 -> 46375
A27: 3. CBX2 DIRECT SERVICE: HO CHI MINH(CAT LAI) Nansha-Xiamen- Tianjin- Qingdao
A28: VESSEL | B28: VOY | C28: ETD HCM Thu | D28: Nansha | E28: Xiamen | F28: Tianjin | G28: Qingdao
D29: SUN | E29: TUE | F29: SUN | G29: TUE
D30: 3 DAYS | E30: 5 DAYS | F30: 10 DAYS | G30: 12 DAYS
A31: ='CBX2.S (WED) & CBX2.N (THU)'!A9 -> SITC YUANMING | B31: ='CBX2.S (WED) & CBX2.N (THU)'!B9 -> 2616 | C31: ='CBX2.S (WED) & CBX2.N (THU)'!C9 -> 46330 | D31: =C31+3 -> 46333 | E31: =C31+5 -> 46335 | F31: =C31+10 -> 46340 | G31: =C31+12 -> 46342
A32: ='CBX2.S (WED) & CBX2.N (THU)'!A10 -> SITC HUIMING | B32: ='CBX2.S (WED) & CBX2.N (THU)'!B10 -> 2614 | C32: ='CBX2.S (WED) & CBX2.N (THU)'!C10 -> 46337 | D32: =C32+3 -> 46340 | E32: =C32+5 -> 46342 | F32: =C32+10 -> 46347 | G32: =C32+12 -> 46349
A33: ='CBX2.S (WED) & CBX2.N (THU)'!A11 -> SITC CHANGMING | B33: ='CBX2.S (WED) & CBX2.N (THU)'!B11 -> 2616 | C33: ='CBX2.S (WED) & CBX2.N (THU)'!C11 -> 46344 | D33: =C33+3 -> 46347 | E33: =C33+5 -> 46349 | F33: =C33+10 -> 46354 | G33: =C33+12 -> 46356
A34: ='CBX2.S (WED) & CBX2.N (THU)'!A12 -> SITC RUIMING | B34: ='CBX2.S (WED) & CBX2.N (THU)'!B12 -> 2618 | C34: ='CBX2.S (WED) & CBX2.N (THU)'!C12 -> 46351 | D34: =C34+3 -> 46354 | E34: =C34+5 -> 46356 | F34: =C34+10 -> 46361 | G34: =C34+12 -> 46363
A35: ='CBX2.S (WED) & CBX2.N (THU)'!A13 -> SITC SHENGMING | B35: ='CBX2.S (WED) & CBX2.N (THU)'!B13 -> 2616 | C35: ='CBX2.S (WED) & CBX2.N (THU)'!C13 -> 46358 | D35: =C35+3 -> 46361 | E35: =C35+5 -> 46363 | F35: =C35+10 -> 46368 | G35: =C35+12 -> 46370
A37: 4. VTX3N DIRECT SERVICE: HO CHI MINH(CATLAI) - Shekou
A38: VESSEL | B38: VOY | C38: ETD HCM SUN | D38: SHEKOU
D39: WED
D40: 3 days
A41: ='VTX3.N (SUN) & CVS2 (SAT)'!A9 -> SITC RENDE | B41: ='VTX3.N (SUN) & CVS2 (SAT)'!B9 -> 2623N | C41: ='VTX3.N (SUN) & CVS2 (SAT)'!C9 -> 46327 | D41: =C41+3 -> 46330
A42: ='VTX3.N (SUN) & CVS2 (SAT)'!A10 -> SITC CHANGDE | B42: ='VTX3.N (SUN) & CVS2 (SAT)'!B10 -> 2623N | C42: ='VTX3.N (SUN) & CVS2 (SAT)'!C10 -> 46334 | D42: =C42+3 -> 46337
A43: ='VTX3.N (SUN) & CVS2 (SAT)'!A11 -> SITC FUJIAN | B43: ='VTX3.N (SUN) & CVS2 (SAT)'!B11 -> 2627 | C43: ='VTX3.N (SUN) & CVS2 (SAT)'!C11 -> 46341 | D43: =C43+3 -> 46344
A44: ='VTX3.N (SUN) & CVS2 (SAT)'!A12 -> SITC SHENGDE | B44: ='VTX3.N (SUN) & CVS2 (SAT)'!B12 -> 2625 | C44: ='VTX3.N (SUN) & CVS2 (SAT)'!C12 -> 46348 | D44: =C44+3 -> 46351
A45: ='VTX3.N (SUN) & CVS2 (SAT)'!A13 -> SITC RENDE | B45: ='VTX3.N (SUN) & CVS2 (SAT)'!B13 -> 2625 | C45: ='VTX3.N (SUN) & CVS2 (SAT)'!C13 -> 46355 | D45: =C45+3 -> 46358
A47: 5. VTX6 DIRECT SERVICE: HO CHI MINH(CAT LAI) Shekou
A48: VESSEL | B48: VOY | C48: ETD HCM WED | D48: Shekou
...

Sheet CAMBODIA & THAILAND
B1: New SITC Container Lines Vietnam Co. Ltd
B2: The METT Building - Floor 16 - 15 Tran Bach Dang Street, Quarter 3, An Khanh Ward, Ho Chi Minh City
B3: Tel: +84-28-54047415 Fax: +84-28-54047420 Website: www.sitc.com
A5: VTX1 (SAT): HOCHIMINH - SIHANOUKVILLE - LAEM CHABANG | I5: CKV2 (SUN): HOCHIMINH - SIHANOUKVILLE - LAEM CHABANG
A6: VESSEL | B6: VOY | C6: ETD HCM VTX1 | D6: SHV | E6: LCB | F6: LATKRABANG VIA LAEM CHABANG | G6: BMTP VIA LAEM CHABANG | I6: VESSEL | J6: VOY | K6: ETD HCM CKV2 | L6: SHV | M6: LCB | N6: LATKRABANG VIA LAEM CHABANG | O6: BMTP VIA LAEM CHABANG
C7: =CHOOSE(WEEKDAY(C8, 2), "MON", "TUE", "WED", "THU", "FRI", "SAT", "SUN") -> SAT | D7: 1-2 days | E7: 4-5 days | F7: 5-6 days | G7: 5-6 days | K7: =CHOOSE(WEEKDAY(K8, 2), "MON", "TUE", "WED", "THU", "FRI", "SAT", "SUN") -> SUN | L7: 1-2 days | M7: 4-5 days | N7: 5-6 days | O7: 5-6 days
A8: SITC SHANGHAI | B8: 2622S | C8: 46333 | D8: =C8+2 -> 46335 | E8: =C8+5 -> 46338 | F8: =E8+1 -> 46339 | G8: =F8 -> 46339 | I8: SITC ZHI | J8: 2622S | K8: 46327 | L8: =K8+2 -> 46329 | M8: =K8+5 -> 46332 | N8: =K8+6 -> 46333 | O8: =K8+6 -> 46333
A9: SITC SHANDONG | B9: 2624 | C9: =C8+7 -> 46340 | D9: =C9+2 -> 46342 | E9: =C9+5 -> 46345 | F9: =E9+1 -> 46346 | G9: =F9 -> 46346 | I9: SITC ZHEJIANG | J9: 2628 | K9: =K8+7 -> 46334 | L9: =K9+2 -> 46336 | M9: =K9+5 -> 46339 | N9: =K9+6 -> 46340 | O9: =K9+6 -> 46340
A10: SITC XINGDE | B10: 2624S | C10: =C9+7 -> 46347 | D10: =C10+2 -> 46349 | E10: =C10+5 -> 46352 | F10: =E10+1 -> 46353 | G10: =F10 -> 46353 | I10: SITC ZHENGDE | J10: 2622S | K10: =K9+7 -> 46341 | L10: =K10+2 -> 46343 | M10: =K10+5 -> 46346 | N10: =K10+6 -> 46347 | O10: =K10+6 -> 46347
A11: SITC SHUNDE | B11: 2626 | C11: =C10+7 -> 46354 | D11: =C11+2 -> 46356 | E11: =C11+5 -> 46359 | F11: =E11+1 -> 46360 | G11: =F11 -> 46360 | I11: SITC JIANGSU | J11: 2628 | K11: =K10+7 -> 46348 | L11: =K11+2 -> 46350 | M11: =K11+5 -> 46353 | N11: =K11+6 -> 46354 | O11: =K11+6 -> 46354
A12: SITC SHANGHAI | B12: 2624S | C12: =C11+7 -> 46361 | D12: =C12+2 -> 46363 | E12: =C12+5 -> 46366 | F12: =E12+1 -> 46367 | G12: =F12 -> 46367 | I12: SITC ZHI | J12: 2624S | K12: =K11+7 -> 46355 | L12: =K12+2 -> 46357 | M12: =K12+5 -> 46360 | N12: =K12+6 -> 46361 | O12: =K12+6 -> 46361
A13: SITC SHANDONG | B13: 2626 | C13: =C12+7 -> 46368 | D13: =C13+2 -> 46370 | E13: =C13+5 -> 46373 | F13: =E13+1 -> 46374 | G13: =F13 -> 46374 | I13: SITC ZHEJIANG | J13: 2630 | K13: =K12+7 -> 46362 | L13: =K13+2 -> 46364 | M13: =K13+5 -> 46367 | N13: =K13+6 -> 46368 | O13: =K13+6 -> 46368
A15: The closing time of VTX 1: (Sat) | I15: The closing time of CKV 2: (Sunday)
A16: ICD TANAMEXCO, ICD TRANSIMEX, NEW PORT: 17h00 on Thursday | I16: At New Port, ICD Tanamexco, ICD Transimex: 16h00 on Friday
A17: CAT LAI: 17h00 on Friday for Dry and Reefer | I17: At Cat Lai: 16h00 on Saturday.
A18: LIST OF TERMINALs: | I18: LIST OF TERMINALs:
A19: Sihanouk: SIHANOUKVILLE AUTONOMOUS PORT | I19: Sihanouk: SIHANOUKVILLE AUTONOMOUS PORT
A20: Laem Chabang: C3 or B5 (depend on occupancy)--LCIT: Laem Chabang International Terminal | I20: Laem Chabang: C3 or B5 (depend on occupancy)--LCIT: Laem Chabang International Terminal
A21: Laem Chabang: LCT - Laem Chabang International Terminal | I21: Laem Chabang: LCT - Laem Chabang International Terminal

Sheet JTI (THU)
C1: New SITC Container Lines Vietnam Co. Ltd
C2: The METT Building - Floor 16 - 15 Tran Bach Dang Street, Quarter 3, An Khanh Ward, Ho Chi Minh City
C3: Tel: +84-28-54047415 Fax: +84-28-54047420 Website: www.sitc.com
A5: JTI DIRECT SERVICE: HO CHI MINH (CAIMEP)-Tokyo- Yokohama-Shimizu- Nagoya -Osaka- Kobe
A6: VESSEL | B6: VOY | C6: CAI MEP (TCTT) | D6: TOKYO | E6: YOKOHAMA | F6: SHIMIZU | G6: NAGOYA | H6: OSAKA | I6: KOBE
D7: =CHOOSE(WEEKDAY(D9, 2), "MON", "TUE", "WED", "THU", "FRI", "SAT", "SUN") -> SAT | E7: =CHOOSE(WEEKDAY(E9, 2), "MON", "TUE", "WED", "THU", "FRI", "SAT", "SUN") -> SUN | F7: =CHOOSE(WEEKDAY(F10, 2), "MON", "TUE", "WED", "THU", "FRI", "SAT", "SUN") -> MON | G7: =CHOOSE(WEEKDAY(G9, 2), "MON", "TUE", "WED", "THU", "FRI", "SAT", "SUN") -> WED | H7: =CHOOSE(WEEKDAY(H9, 2), "MON", "TUE", "WED", "THU", "FRI", "SAT", "SUN") -> THU | I7: =CHOOSE(WEEKDAY(I9, 2), "MON", "TUE", "WED", "THU", "FRI", "SAT", "SUN") -> FRI
C8: =CHOOSE(WEEKDAY(C9, 2), "MON", "TUE", "WED", "THU", "FRI", "SAT", "SUN") -> THU | D8: 9 days | E8: 10 days | F8: 11 days | G8: 13 days | H8: 14 days | I8: 15 days
A9: NYK FUTAGO | B9: 0109E | C9: 46331 | D9: =C9+9 -> 46340 | E9: =C9+10 -> 46341 | F9: SKIP | G9: =C9+13 -> 46344 | H9: =C9+14 -> 46345 | I9: =C9+15 -> 46346
A10: NYK CONSTELLATION | B10: 0113E | C10: =C9+7 -> 46338 | D10: =C10+9 -> 46347 | E10: =C10+10 -> 46348 | F10: =C10+11 -> 46349 | G10: =C10+13 -> 46351 | H10: =C10+14 -> 46352 | I10: =C10+15 -> 46353
A11: TBA | C11: =C10+7 -> 46345 | D11: =C11+9 -> 46354 | E11: =C11+10 -> 46355 | F11: =C11+11 -> 46356 | G11: =C11+13 -> 46358 | H11: =C11+14 -> 46359 | I11: =C11+15 -> 46360
A12: TBA | C12: =C11+7 -> 46352 | D12: =C12+9 -> 46361 | E12: =C12+10 -> 46362 | F12: =C12+11 -> 46363 | G12: =C12+13 -> 46365 | H12: =C12+14 -> 46366 | I12: =C12+15 -> 46367
A13: TBA | C13: =C12+7 -> 46359 | D13: =C13+9 -> 46368 | E13: =C13+10 -> 46369 | F13: =C13+11 -> 46370 | G13: =C13+13 -> 46372 | H13: =C13+14 -> 46373 | I13: =C13+15 -> 46374
A14: TBA | C14: =C13+7 -> 46366 | D14: =C14+9 -> 46375 | E14: =C14+10 -> 46376 | F14: =C14+11 -> 46377 | G14: =C14+13 -> 46379 | H14: =C14+14 -> 46380 | I14: =C14+15 -> 46381
A15: * The schedule is subject to change with or without prior notice.
A16: *** Closing time ***
A17: At ICDs: 12h00 on Tuesday.
A18: At Cai Mep TCTT: 12h00 on Wednesday (for Dry and RF)
A19: <JTI> List of terminals:
A20: TYO: OHI CONTAINER TERMINAL NO.3/4
A21: YOK : MINAMI HONMOKU MC-1 2 3 4
A22: SMZ : SHIMIZU CONTAINER TERMINAL
A23: NGO: NCB CONTAINER TERMINAL
A24: OSA: NANKO NO.2 TERMINAL (OICT MOL)
A25: UKB: ROKKO ISLAND (C-4 5)

Sheet CBX2.S (WED) & CBX2.N (THU)
C1: New SITC Container Lines Vietnam Co. Ltd
C2: The METT Building - Floor 16 - 15 Tran Bach Dang Street, Quarter 3, An Khanh Ward, Ho Chi Minh City
C3: Tel: +84-28-54047415 Fax: +84-28-54047420 Website: www.sitc.com
A5: CBX2.S DIRECT SERVICE: | C5: HOCHIMINH (PHUOC AN) - PORT KLANG - CHATTOGRAM - PORT KLANG | H5: CBX2.N - DIRECT SERVICE: | J5: HOCHIMINH (PHUOC AN) -XIAMEN- INCHON - TIANJIN - QINGDAO
A6: VESSEL | B6: VOY | C6: ETD HCM | D6: PORT KLANG(N) | E6: CHATTOGRAM | F6: YANGON | H6: VESSEL | I6: VOY | J6: ETD HCM | K6: XIAMEN | L6: INCHON | M6: TIANJIN | N6: QINDAO
D7: =CHOOSE(WEEKDAY(D9, 2), "MON", "TUE", "WED", "THU", "FRI", "SAT", "SUN") -> SAT | E7: =CHOOSE(WEEKDAY(E9, 2), "MON", "TUE", "WED", "THU", "FRI", "SAT", "SUN") -> WED | F7: =CHOOSE(WEEKDAY(F9, 2), "MON", "TUE", "WED", "THU", "FRI", "SAT", "SUN") -> SUN | K7: =CHOOSE(WEEKDAY(K9, 2), "MON", "TUE", "WED", "THU", "FRI", "SAT", "SUN") -> MON | L7: =CHOOSE(WEEKDAY(L9, 2), "MON", "TUE", "WED", "THU", "FRI", "SAT", "SUN") -> THU | M7: =CHOOSE(WEEKDAY(M9, 2), "MON", "TUE", "WED", "THU", "FRI", "SAT", "SUN") -> SAT | N7: =CHOOSE(WEEKDAY(N9, 2), "MON", "TUE", "WED", "THU", "FRI", "SAT", "SUN") -> MON
C8: =CHOOSE(WEEKDAY(C9, 2), "MON", "TUE", "WED", "THU", "FRI", "SAT", "SUN") -> WED | D8: 3 days | E8: 7 days | F8: 11 days | J8: =CHOOSE(WEEKDAY(J9, 2), "MON", "TUE", "WED", "THU", "FRI", "SAT", "SUN") -> THU | K8: 4 days | L8: 7 days | M8: 09 days | N8: 11 days
A9: SITC YUANMING | B9: 2616 | C9: 46330 | D9: =C9+3 -> 46333 | E9: =C9+7 -> 46337 | F9: =C9+11 -> 46341 | H9: SITC RUIMING | I9: 2617 | J9: 46331 | K9: =J9+4 -> 46335 | L9: =J9+7 -> 46338 | M9: =J9+9 -> 46340 | N9: =J9+11 -> 46342
A10: SITC HUIMING | B10: 2614 | C10: =C9+7 -> 46337 | D10: =C10+3 -> 46340 | E10: =C10+7 -> 46344 | F10: =C10+11 -> 46348 | H10: SITC SHENGMING | I10: 2615 | J10: =J9+7 -> 46338 | K10: =J10+4 -> 46342 | L10: =J10+7 -> 46345 | M10: =J10+9 -> 46347 | N10: =J10+11 -> 46349
A11: SITC CHANGMING | B11: 2616 | C11: =C10+7 -> 46344 | D11: =C11+3 -> 46347 | E11: =C11+7 -> 46351 | F11: =C11+11 -> 46355 | H11: SITC QIUMING | I11: 2615 | J11: =J10+7 -> 46345 | K11: =J11+4 -> 46349 | L11: =J11+7 -> 46352 | M11: =J11+9 -> 46354 | N11: =J11+11 -> 46356
A12: SITC RUIMING | B12: 2618 | C12: =C11+7 -> 46351 | D12: =C12+3 -> 46354 | E12: =C12+7 -> 46358 | F12: =C12+11 -> 46362 | H12: SITC YUANMING | I12: 2617 | J12: =J11+7 -> 46352 | K12: =J12+4 -> 46356 | L12: =J12+7 -> 46359 | M12: =J12+9 -> 46361 | N12: =J12+11 -> 46363
A13: SITC SHENGMING | B13: 2616 | C13: =C12+7 -> 46358 | D13: =C13+3 -> 46361 | E13: =C13+7 -> 46365 | F13: =C13+11 -> 46369 | H13: SITC HUIMING | I13: 2615 | J13: =J12+7 -> 46359 | K13: =J13+4 -> 46363 | L13: =J13+7 -> 46366 | M13: =J13+9 -> 46368 | N13: =J13+11 -> 46370
A14: SITC QIUMING | B14: 2616 | C14: =C13+7 -> 46365 | D14: =C14+3 -> 46368 | E14: =C14+7 -> 46372 | F14: =C14+11 -> 46376 | H14: SITC CHANGMING | I14: 2617 | J14: =J13+7 -> 46366 | K14: =J14+4 -> 46370 | L14: =J14+7 -> 46373 | M14: =J14+9 -> 46375 | N14: =J14+11 -> 46377
A15: *** Closing time *** | H15: *** Closing time ***
A16: At Cat Lai / ICDs: 05h00 on Monday | H16: At Cat Lai / ICDs: 02h00 on Tuesday
A17: At ICD Tân Cảng Nhơn Trạch (RF): 12h00 on Monday | H17: At Phuoc An: 13h00 on Wednesday (for Dry and RF)
A18: At Phuoc An: 11h00 on Tuesday (for Dry and RF)
A19: TERMINAL'S NAME: | H19: TERMINAL'S NAME:
A20: PORT KLANG: KPM | H20: INCHON: SUNKWANG NEWPORT CONTAINER TERMINAL(SNT)
A21: CHATTOGRAM: CHITTAGONG PORT AUTHORITY | H21: TIANJIN: TIANJIN PORT CONTAINER TERMINAL CO., LTD (TPC)
A22: YANGON: MYANMAR INTERNATIONAL THILAWA TERMINAL (MITT) | H22: QINGDAO: QQCTU
H23: XIAMEN: HAITIAN CONTAINER TERMINAL

Sheet VTX2.N (SAT)
A1: 152693 | C1: New SITC Container Lines Vietnam Co. Ltd
C2: The METT Building - Floor 16 - 15 Tran Bach Dang Street, Quarter 3, An Khanh Ward, Ho Chi Minh City
C3: Tel: +84-28-54047415 Fax: +84-28-54047420 Website: www.sitc.com
A5: VTX2 DIRECT SERVICE: HOCHIMINH-NINGBO-SHANGHAI-NAGOYA-TOKYO-YOKOHAMA
A6: VESSEL | B6: VOY | C6: ETD HCM | D6: XIAMEN | E6: NINGBO | F6: SHANGHAI | G6: NAGOYA | H6: TOKYO | I6: YOKOHAMA
D7: SUNDAY | E7: =CHOOSE(WEEKDAY(E12, 2), "MON", "TUE", "WED", "THU", "FRI", "SAT", "SUN") -> THU | F7: =CHOOSE(WEEKDAY(F10, 2), "MON", "TUE", "WED", "THU", "FRI", "SAT", "SUN") -> SAT | G7: =CHOOSE(WEEKDAY(G11, 2), "MON", "TUE", "WED", "THU", "FRI", "SAT", "SUN") -> MON | H7: =CHOOSE(WEEKDAY(H11, 2), "MON", "TUE", "WED", "THU", "FRI", "SAT", "SUN") -> TUE | I7: =CHOOSE(WEEKDAY(I11, 2), "MON", "TUE", "WED", "THU", "FRI", "SAT", "SUN") -> WED
C8: =CHOOSE(WEEKDAY(K10, 2), "MON", "TUE", "WED", "THU", "FRI", "SAT", "SUN") -> SAT | D8: 5 DAYS | E8: 5 DAYS | F8: 7 DAYS | G8: 9 DAYS | H8: 10 DAYS | I8: 11 DAYS
A9: SITC RUIDE | B9: 2623 | C9: 46333 | D9: =C9+5 -> 46338 | E9: =C9+5 -> 46338 | F9: =C9+7 -> 46340 | G9: =C9+9 -> 46342 | H9: =C9+10 -> 46343 | I9: =C9+11 -> 46344 | J9: SKIP DA NANG
A10: SITC MINGDE | B10: 2623 | C10: =C9+7 -> 46340 | E10: =C10+5 -> 46345 | F10: =C10+7 -> 46347 | G10: =C10+9 -> 46349 | H10: =C10+10 -> 46350 | I10: =C10+11 -> 46351 | J10: SKIP DA NANG
A11: SUNRISE DRAGON | B11: 2627 | C11: =C10+7 -> 46347 | E11: =C11+5 -> 46352 | F11: =C11+7 -> 46354 | G11: =C11+9 -> 46356 | H11: =C11+10 -> 46357 | I11: =C11+11 -> 46358 | J11: SKIP DA NANG
A12: SITC WENDE | B12: 2625 | C12: =C11+7 -> 46354 | E12: =C12+5 -> 46359 | F12: =C12+7 -> 46361 | G12: =C12+9 -> 46363 | H12: =C12+10 -> 46364 | I12: =C12+11 -> 46365 | J12: SKIP DA NANG
A13: SITC RUIDE | B13: 2625 | C13: =C12+7 -> 46361 | E13: =C13+5 -> 46366 | F13: =C13+7 -> 46368 | G13: =C13+9 -> 46370 | H13: =C13+10 -> 46371 | I13: =C13+11 -> 46372 | J13: SKIP DA NANG
C14: =C13+7 -> 46368 | E14: =C14+5 -> 46373 | F14: =C14+7 -> 46375 | G14: =C14+9 -> 46377 | H14: =C14+10 -> 46378 | I14: =C14+11 -> 46379 | J14: SKIP DA NANG
A15: *** Closing time ***
A16: At ICDs: 17h00 on Thursday
A17: At ICD Tân Cảng Nhơn Trạch (REEFER): 20h00 on Thursday
A18: At Cat Lai: 17h00 on Friday for Dry and Reefer
A19: TERMINAL'S NAME:
A20: Ningbo: NINGBO DAXIE CONTAINER TERMINAL CO., LTD.(NCM)
A21: Shanghai: WAIGAO QIAO 4
A22: Nagoya: NAGOYA UNITED CONTAINER TERMINAL
A23: Tokyo: Y2 CONTAINER TERMINAL
A24: Yokohama: MINAMI HONMOKU CONTAINER TERMINAL

Sheet VTX3.N (SUN) & CVS2 (SAT)
C1: New SITC Container Lines Vietnam Co. Ltd
C2: The METT Building - Floor 16 - 15 Tran Bach Dang Street, Quarter 3, An Khanh Ward, Ho Chi Minh City
C3: Tel: +84-28-54047415 Fax: +84-28-54047420 Website: www.sitc.com
A5: VTX3.N DIRECT SERVICE: | C5: HOCHIMINH - SHEKOU - NAGOYA - TOKYO - YOKOHAMA | I5: CVS2 DIRECT SERVICE: | K5: HOCHIMINH - TAICANG - SHANGHAI - OSAKA - KOBE
A6: VESSEL | B6: VOY | C6: ETD HCM | D6: SHEKOU | E6: NAGOYA | F6: TOKYO | G6: YOKOHAMA | I6: VESSEL | J6: VOY | K6: ETD HCM | L6: TAICANG | M6: SHANGHAI | N6: OSAKA | O6: KOBE
D7: =CHOOSE(WEEKDAY(D10, 2), "MON", "TUE", "WED", "THU", "FRI", "SAT", "SUN") -> WED | E7: =CHOOSE(WEEKDAY(E11, 2), "MON", "TUE", "WED", "THU", "FRI", "SAT", "SUN") -> MON | F7: =CHOOSE(WEEKDAY(F9, 2), "MON", "TUE", "WED", "THU", "FRI", "SAT", "SUN") -> TUE | G7: =CHOOSE(WEEKDAY(G9, 2), "MON", "TUE", "WED", "THU", "FRI", "SAT", "SUN") -> WED | L7: =CHOOSE(WEEKDAY(L9, 2), "MON", "TUE", "WED", "THU", "FRI", "SAT", "SUN") -> FRI | M7: =CHOOSE(WEEKDAY(M9, 2), "MON", "TUE", "WED", "THU", "FRI", "SAT", "SUN") -> SAT | N7: =CHOOSE(WEEKDAY(N9, 2), "MON", "TUE", "WED", "THU", "FRI", "SAT", "SUN") -> MON | O7: =CHOOSE(WEEKDAY(O9, 2), "MON", "TUE", "WED", "THU", "FRI", "SAT", "SUN") -> TUE
C8: =CHOOSE(WEEKDAY(C9, 2), "MON", "TUE", "WED", "THU", "FRI", "SAT", "SUN") -> SUN | D8: 3 days | E8: 8 days | F8: 9 days | G8: 10 days | K8: =CHOOSE(WEEKDAY(K9, 2), "MON", "TUE", "WED", "THU", "FRI", "SAT", "SUN") -> SAT | L8: 6 days | M8: 7 days | N8: 9 days | O8: 10 days
A9: SITC RENDE | B9: 2623N | C9: 46327 | D9: =C9+3 -> 46330 | E9: SKIP | F9: =C9+9 -> 46336 | G9: =C9+10 -> 46337 | I9: HONG AN | J9: 2626 | K9: 46333 | L9: =K9+6 -> 46339 | M9: =K9+7 -> 46340 | N9: =K9+9 -> 46342 | O9: =K9+10 -> 46343
A10: SITC CHANGDE | B10: 2623N | C10: =C9+7 -> 46334 | D10: =C10+3 -> 46337 | E10: =C10+8 -> 46342 | F10: =C10+9 -> 46343 | G10: =C10+10 -> 46344 | I10: SITC MACAO | J10: 2625 | K10: =K9+7 -> 46340 | L10: =K10+6 -> 46346 | M10: =K10+7 -> 46347 | N10: =K10+9 -> 46349 | O10: =K10+10 -> 46350
A11: SITC FUJIAN | B11: 2627 | C11: =C10+7 -> 46341 | D11: =C11+3 -> 46344 | E11: =C11+8 -> 46349 | F11: =C11+9 -> 46350 | G11: =C11+10 -> 46351 | I11: KOTA NAZAR | J11: 2646 | K11: =K10+7 -> 46347 | L11: =K11+6 -> 46353 | M11: =K11+7 -> 46354 | N11: =K11+9 -> 46356 | O11: =K11+10 -> 46357
A12: SITC SHENGDE | B12: 2625 | C12: =C11+7 -> 46348 | D12: =C12+3 -> 46351 | E12: =C12+8 -> 46356 | F12: =C12+9 -> 46357 | G12: =C12+10 -> 46358 | I12: HONG AN | J12: 2628 | K12: =K11+7 -> 46354 | L12: =K12+6 -> 46360 | M12: =K12+7 -> 46361 | N12: =K12+9 -> 46363 | O12: =K12+10 -> 46364
A13: SITC RENDE | B13: 2625 | C13: =C12+7 -> 46355 | D13: =C13+3 -> 46358 | E13: =C13+8 -> 46363 | F13: =C13+9 -> 46364 | G13: =C13+10 -> 46365 | I13: SITC MACAO | J13: 2627 | K13: =K12+7 -> 46361 | L13: =K13+6 -> 46367 | M13: =K13+7 -> 46368 | N13: =K13+9 -> 46370 | O13: =K13+10 -> 46371
A14: SITC CHANGDE | B14: 2625 | C14: =C13+7 -> 46362 | D14: =C14+3 -> 46365 | E14: =C14+8 -> 46370 | F14: =C14+9 -> 46371 | G14: =C14+10 -> 46372 | I14: KOTA NAZAR | J14: 2649 | K14: =K13+7 -> 46368 | L14: =K14+6 -> 46374 | M14: =K14+7 -> 46375 | N14: =K14+9 -> 46377 | O14: =K14+10 -> 46378
A15: * The schedule is subject to change with or without prior notice. | I15: * The schedule is subject to change with or without prior notice.
A16: *** Closing time *** | I16: *** Closing time ***
A17: At ICDs: 17h00 on Friday | I17: At ICDs: 03h00 on Thursday
A18: At ICD Tân Cảng Nhơn Trạch (REEFER): 02h00 on Saturday | I18: At ICD Tân Cảng Nhơn Trạch (REEFER): 17h00 on Thursday
A19: At Cat Lai: 17h00 on Saturday for Dry and Reefer | I19: At Cat Lai: 03h00 on Friday (for Dry and RF)
A20: TERMINAL'S NAME: | I20: TERMINAL'S NAME:
A21: Nagoya: NAGOYA UNITED CONTAINER TERMINAL | I21: TAICANG: Taicang Port SP Zhenghe Container Terminal
A22: Tokyo: Y2 CONTAINER TERMINAL | I22: SHANGHAI: Wai Gao Qiao #1 Terminal
A23: Kawasaki: Kawasaki Port Container Terminal | I23: OSAKA: DICT (SJJ & SITC vessel)/Nanco 1/2 (SNL vessel)
A24: Yokohama: Minami Honomoku Terminal MC 1/2 | I24: KOBE: PC-13 (SITC vessel)/ PC-16~17 (SJJ vessel)/ PC-14(SNL vessel)
A25: SHEKOU: SHENZHEN MAWAN CONTAINER TERMINAL

Sheet VTX5.N (WED)
C1: New SITC Container Lines Vietnam Co. Ltd
C2: The METT Building - Floor 16 - 15 Tran Bach Dang Street, Quarter 3, An Khanh Ward, Ho Chi Minh City
C3: Tel: +84-28-54047415 Fax: +84-28-54047420 Website: www.sitc.com
A5: VTX5 DIRECT SERVICE : | C5: HOCHIMINH - NANSHA - HAKATA - OSAKA - KOBE - BUSAN - LIANYUNGANG - QINGDAO | L5: FEM3 DIRECT SERVICE : | N5: HOCHIMINH- SHEKOU -INCHON- QINGDAO
A6: VESSEL | B6: VOY | C6: ETD HCM | D6: NANSHA | E6: HAKATA | F6: OSAKA | G6: KOBE | H6: BUSAN | I6: LIANYUNGANG | J6: QINGDAO | L6: VESSEL | M6: VOY | N6: ETD HCM SUN | O6: SHEKOU | P6: INCHON | Q6: QINGDAO
D7: =CHOOSE(WEEKDAY(D10, 2), "MON", "TUE", "WED", "THU", "FRI", "SAT", "SUN") -> SAT | E7: =CHOOSE(WEEKDAY(E9, 2), "MON", "TUE", "WED", "THU", "FRI", "SAT", "SUN") -> WED | F7: =CHOOSE(WEEKDAY(F9, 2), "MON", "TUE", "WED", "THU", "FRI", "SAT", "SUN") -> THU | G7: =CHOOSE(WEEKDAY(G9, 2), "MON", "TUE", "WED", "THU", "FRI", "SAT", "SUN") -> FRI | H7: =CHOOSE(WEEKDAY(H9, 2), "MON", "TUE", "WED", "THU", "FRI", "SAT", "SUN") -> #VALUE! | I7: =CHOOSE(WEEKDAY(I9, 2), "MON", "TUE", "WED", "THU", "FRI", "SAT", "SUN") -> MON | J7: =CHOOSE(WEEKDAY(J9, 2), "MON", "TUE", "WED", "THU", "FRI", "SAT", "SUN") -> WED | O7: TUESDAY | P7: FRIDAY | Q7: FRIDAY
C8: =CHOOSE(WEEKDAY(C9, 2), "MON", "TUE", "WED", "THU", "FRI", "SAT", "SUN") -> WED | D8: 3 days | E8: 7 days | F8: 8 days | G8: 9 days | H8: 10days | I8: 12 days | J8: 14 days | O8: 4 days | P8: 8 days | Q8: 10 days
A9: SITC JIADE | B9: 2623N | C9: 46330 | D9: =C9+3 -> 46333 | E9: =C9+7 -> 46337 | F9: =C9+8 -> 46338 | G9: =C9+9 -> 46339 | H9: SKIP | I9: =C9+12 -> 46342 | J9: =C9+14 -> 46344 | N9: 45480 | O9: =N9+4 -> 45484 | P9: =N9+8 -> 45488 | Q9: =N9+10 -> 45490
A10: ZHONG GU NAN HAI | B10: 2643 | C10: =C9+7 -> 46337 | D10: =C10+3 -> 46340 | E10: =C10+7 -> 46344 | F10: =C10+8 -> 46345 | G10: =C10+9 -> 46346 | H10: SKIP | I10: =C10+12 -> 46349 | J10: =C10+14 -> 46351 | N10: =N9+7 -> 45487 | O10: =N10+4 -> 45491 | P10: =N10+8 -> 45495 | Q10: =N10+10 -> 45497
A11: SITC HAINAN | B11: 2627 | C11: =C10+7 -> 46344 | D11: =C11+3 -> 46347 | E11: =C11+7 -> 46351 | F11: =C11+8 -> 46352 | G11: =C11+9 -> 46353 | H11: SKIP | I11: =C11+12 -> 46356 | J11: =C11+14 -> 46358 | N11: =N10+7 -> 45494 | O11: =N11+4 -> 45498 | P11: =N11+8 -> 45502 | Q11: =N11+10 -> 45504
A12: ASL TAIPEI | B12: 2645 | C12: =C11+7 -> 46351 | D12: =C12+3 -> 46354 | E12: =C12+7 -> 46358 | F12: =C12+8 -> 46359 | G12: =C12+9 -> 46360 | H12: SKIP | I12: =C12+12 -> 46363 | J12: =C12+14 -> 46365 | N12: =N11+7 -> 45501 | O12: =N12+4 -> 45505 | P12: =N12+8 -> 45509 | Q12: =N12+10 -> 45511
A13: SITC JIADE | B13: 2625 | C13: =C12+7 -> 46358 | D13: =C13+3 -> 46361 | E13: =C13+7 -> 46365 | F13: =C13+8 -> 46366 | G13: =C13+9 -> 46367 | H13: SKIP | I13: =C13+12 -> 46370 | J13: =C13+14 -> 46372 | N13: =N12+7 -> 45508 | O13: =N13+4 -> 45512 | P13: =N13+8 -> 45516 | Q13: =N13+10 -> 45518
A14: ZHONG GU NAN HAI | B14: 2647 | C14: =C13+7 -> 46365 | D14: =C14+3 -> 46368 | E14: =C14+7 -> 46372 | F14: =C14+8 -> 46373 | G14: =C14+9 -> 46374 | H14: SKIP | I14: =C14+12 -> 46377 | J14: =C14+14 -> 46379
A15: *** Closing time *** | L15: ***Closing time of FEM3***
A16: At ICDs: 12h00 on Monday | L16: At ICDs: 15h00 on FRI.
A17: At ICD Tân Cảng Nhơn Trạch (RF): 02h00 on Tuesday | L17: At Cat Lai: 09h00 on SAT (for Dry and RF)
A18: At Cat Lai: 12h00 on Tuesday for Dry and RF | L18: At ICD Tân Cảng Nhơn Trạch (RF): 21h:00 on FRI
A19: TERMINAL'S NAME: | L19: TERMINAL:
A20: Nansha: NANSHA STEVEDORING CO., LTD OF GUANGZHOU PORT (NTT) | L20: SHEKOU: CHIWAN CONTAINER TERMINAL
A21: Hakata: ISLAND CITY CONTAINER TERMINAL | L21: INCHON: HANJIN NEW CONTAINER TERMINAL
A22: Osaka: DREAM ISLAND CONTAINER TERMINAL (DICT) | L22: QINGDAO: QQCTU
A23: Kobe: ROKKO C-3/4
A24: Lianyungang: PSA CONTAINER TERMINAL
A25: Qingdao: QQCTU

Sheet VTX6.N (WED) & VTX8.N (TUE)
C1: New SITC Container Lines Vietnam Co. Ltd
C2: The METT Building - Floor 16 - 15 Tran Bach Dang Street, Quarter 3, An Khanh Ward, Ho Chi Minh City
C3: Tel: +84-28-54047415 Fax: +84-28-54047420 Website: www.sitc.com
A5: VTX6 - DIRECT SERVICE: | C5: HOCHIMINH - SHEKOU - TOKYO - YOKOHAMA - KAWASAKI - NAGOYA | J5: VTX8 - DIRECT SERVICE: | L5: HOCHIMINH - XIAMEN - MOJI - OSAKA - KOBE - SHANGHAI
A6: VESSEL | B6: VOY | C6: ETD HCM | D6: SHEKOU | E6: TOKYO | F6: YOKOHAMA | G6: KAWASAKI | H6: NAGOYA | J6: VESSEL | K6: VOY | L6: ETD HCM | M6: XIAMEN | N6: MOJI | O6: OSAKA | P6: KOBE | Q6: SHANGHAI
D7: =CHOOSE(WEEKDAY(D13, 2), "MON", "TUE", "WED", "THU", "FRI", "SAT", "SUN") -> SAT | E7: =CHOOSE(WEEKDAY(E9, 2), "MON", "TUE", "WED", "THU", "FRI", "SAT", "SUN") -> THU | F7: =CHOOSE(WEEKDAY(F9, 2), "MON", "TUE", "WED", "THU", "FRI", "SAT", "SUN") -> FRI | G7: =CHOOSE(WEEKDAY(G10, 2), "MON", "TUE", "WED", "THU", "FRI", "SAT", "SUN") -> SAT | H7: =CHOOSE(WEEKDAY(H9, 2), "MON", "TUE", "WED", "THU", "FRI", "SAT", "SUN") -> SUN | M7: =CHOOSE(WEEKDAY(M9, 2), "MON", "TUE", "WED", "THU", "FRI", "SAT", "SUN") -> SAT | N7: =CHOOSE(WEEKDAY(N9, 2), "MON", "TUE", "WED", "THU", "FRI", "SAT", "SUN") -> WED | O7: =CHOOSE(WEEKDAY(O9, 2), "MON", "TUE", "WED", "THU", "FRI", "SAT", "SUN") -> THU | P7: =CHOOSE(WEEKDAY(P9, 2), "MON", "TUE", "WED", "THU", "FRI", "SAT", "SUN") -> FRI | Q7: =CHOOSE(WEEKDAY(Q9, 2), "MON", "TUE", "WED", "THU", "FRI", "SAT", "SUN") -> MON
C8: =CHOOSE(WEEKDAY(C9, 2), "MON", "TUE", "WED", "THU", "FRI", "SAT", "SUN") -> WED | D8: 3 days | E8: 8 days | F8: 9 days | G8: 10 days | H8: 11 days | L8: =CHOOSE(WEEKDAY(L9, 2), "MON", "TUE", "WED", "THU", "FRI", "SAT", "SUN") -> TUE | M8: 4 days | N8: 8 days | O8: 9 days | P8: 10 days | Q8: 13 days
A9: SITC XIN | B9: 2625N | C9: 46330 | D9: =C9+3 -> 46333 | E9: =C9+8 -> 46338 | F9: =C9+9 -> 46339 | G9: SKIP | H9: =C9+11 -> 46341 | J9: SKIP HCM | K9: 2621N | L9: 46329 | M9: =L9+4 -> 46333 | N9: =L9+8 -> 46337 | O9: =L9+9 -> 46338 | P9: =L9+10 -> 46339 | Q9: =L9+13 -> 46342
A10: SITC KEELUNG | B10: 2625N | C10: =C9+7 -> 46337 | D10: =C10+3 -> 46340 | E10: =C10+8 -> 46345 | F10: =C10+9 -> 46346 | G10: =C10+10 -> 46347 | H10: =C10+11 -> 46348 | J10: SITC HOCHIMINH | K10: 2623N | L10: =L9+7 -> 46336 | M10: =L10+4 -> 46340 | N10: =L10+8 -> 46344 | O10: =L10+9 -> 46345 | P10: =L10+10 -> 46346 | Q10: =L10+13 -> 46349
A11: SITC KANTO | B11: 2627N | C11: =C10+7 -> 46344 | D11: =C11+3 -> 46347 | E11: =C11+8 -> 46352 | F11: =C11+9 -> 46353 | G11: =C11+10 -> 46354 | H11: =C11+11 -> 46355 | J11: SITC DALIAN | K11: 2635N | L11: =L10+7 -> 46343 | M11: =L11+4 -> 46347 | N11: =L11+8 -> 46351 | O11: =L11+9 -> 46352 | P11: =L11+10 -> 46353 | Q11: =L11+13 -> 46356
A12: SITC RUNDE | B12: 2625N | C12: =C11+7 -> 46351 | D12: =C12+3 -> 46354 | E12: =C12+8 -> 46359 | F12: =C12+9 -> 46360 | G12: =C12+10 -> 46361 | H12: =C12+11 -> 46362 | J12: RENOWN | K12: 2639N | L12: =L11+7 -> 46350 | M12: =L12+4 -> 46354 | N12: =L12+8 -> 46358 | O12: =L12+9 -> 46359 | P12: =L12+10 -> 46360 | Q12: =L12+13 -> 46363
A13: SITC XIN | B13: 2627N | C13: =C12+7 -> 46358 | D13: =C13+3 -> 46361 | E13: =C13+8 -> 46366 | F13: =C13+9 -> 46367 | G13: =C13+10 -> 46368 | H13: =C13+11 -> 46369 | J13: RESURGENCE | K13: 2623N | L13: =L12+7 -> 46357 | M13: =L13+4 -> 46361 | N13: =L13+8 -> 46365 | O13: =L13+9 -> 46366 | P13: =L13+10 -> 46367 | Q13: =L13+13 -> 46370
A14: SITC KEELUNG | B14: 2627N | C14: =C13+7 -> 46365 | D14: =C14+3 -> 46368 | E14: =C14+8 -> 46373 | F14: =C14+9 -> 46374 | G14: =C14+10 -> 46375 | H14: =C14+11 -> 46376 | J14: SITC HOCHIMINH | K14: 2625N | L14: =L13+7 -> 46364 | M14: =L14+4 -> 46368 | N14: =L14+8 -> 46372 | O14: =L14+9 -> 46373 | P14: =L14+10 -> 46374 | Q14: =L14+13 -> 46377
A15: *** Closing time *** | J15: *** Closing time ***
A16: At ICDs: 13h00 on Monday | J16: At ICDs: 12h00 on Monday
A17: At CatLai: 13h00 on Tuesday (for Dry and RF) | J17: At CatLai: 12h00 on Tuesday (for Dry and RF)
A18: TERMINAL'S NAME: | J18: TERMINAL'S NAME:
A19: Shekou: SHENZHEN MAWAN CONTAINER TERMINAL | J19: Xiamen: HAITIAN CONTAINER TERMINAL (HCT)
A20: Tokyo: OHI CONTAINER TERMINAL NO.1/2 | J20: Moji: TACHINOURA CONTAINER CENTER NO.2
A21: Yokohama: MINAMI HONMOKU CONTAINER TERMINAL | J21: Osaka: NANKO C - 2/4 CONTAINER TERMINAL
A22: Kawasaki: KAWASAKI PORT CONTAINER TERMINAL | J22: Kobe: PID PC-13
A23: Nagoya: NAGOYA UNITED CONTAINER TERMINAL | J23: Shanghai: WGQ4

Sheet VTX4.N (SUN)
C1: New SITC Container Lines Vietnam Co. Ltd
C2: The METT Building - Floor 16 - 15 Tran Bach Dang Street, Quarter 3, An Khanh Ward, Ho Chi Minh City
C3: Tel: +84-28-54047415 Fax: +84-28-54047420 Website: www.sitc.com
A5: VTX4 - DIRECT SERVICE: | C5: HOCHIMINH (PHUOC AN) - BATANGAS - MANILA NORTH - NANSHA - SHEKOU
A6: VESSEL | B6: VOY | C6: ETD HCM | D6: BATANGAS | E6: NORTH MANILA | F6: NANSHA | G6: SHEKOU
D7: =CHOOSE(WEEKDAY(D9, 2), "MON", "TUE", "WED", "THU", "FRI", "SAT", "SUN") -> WED | E7: =CHOOSE(WEEKDAY(E9, 2), "MON", "TUE", "WED", "THU", "FRI", "SAT", "SUN") -> FRI | F7: =CHOOSE(WEEKDAY(F9, 2), "MON", "TUE", "WED", "THU", "FRI", "SAT", "SUN") -> TUE | G7: =CHOOSE(WEEKDAY(G9, 2), "MON", "TUE", "WED", "THU", "FRI", "SAT", "SUN") -> WED
C8: =CHOOSE(WEEKDAY(C9, 2), "MON", "TUE", "WED", "THU", "FRI", "SAT", "SUN") -> SUN | D8: 3 days | E8: 5 days | F8: 9 days | G8: 10 days
A9: SITC PYEONGTAEK | B9: 2639 | C9: 46327 | D9: =C9+3 -> 46330 | E9: =C9+5 -> 46332 | F9: =C9+9 -> 46336 | G9: =C9+10 -> 46337
A10: HF SPIRIT | B10: 2631 | C10: =C9+7 -> 46334 | D10: =C10+3 -> 46337 | E10: =C10+5 -> 46339 | F10: =C10+9 -> 46343 | G10: =C10+10 -> 46344
A11: HF WEALTH | B11: 2637 | C11: =C10+7 -> 46341 | D11: =C11+3 -> 46344 | E11: =C11+5 -> 46346 | F11: =C11+9 -> 46350 | G11: =C11+10 -> 46351
A12: SITC PYEONGTAEK | B12: 2641 | C12: =C11+7 -> 46348 | D12: =C12+3 -> 46351 | E12: =C12+5 -> 46353 | F12: =C12+9 -> 46357 | G12: =C12+10 -> 46358
A13: HF SPIRIT | B13: 2633 | C13: =C12+7 -> 46355 | D13: =C13+3 -> 46358 | E13: =C13+5 -> 46360 | F13: =C13+9 -> 46364 | G13: =C13+10 -> 46365
A14: HF WEALTH | B14: 2639 | C14: =C13+7 -> 46362 | D14: =C14+3 -> 46365 | E14: =C14+5 -> 46367 | F14: =C14+9 -> 46371 | G14: =C14+10 -> 46372
A15: *** Closing time ***
A16: At ICDs / Cat Lai: 06h00 on Friday
A17: At Phuoc An: 12h00 on Saturday (for Dry and RF)
A18: TERMINAL'S NAME
A19: Batangas: BATANGAS CONTAINER TERMINAL
A20: Manila North Harbour: MANILA INTERNATIONAL CONTAINER TERMIAL
A21: Nansha: NANSHA INTERNATIONAL CONTAINER TERMINAL
A22: Shekou: CHIWAN CONTAINER TERMINAL

Sheet CVM.S (THU) & CVM.N (SUN)
C1: New SITC Container Lines Vietnam Co. Ltd
C2: The METT Building - Floor 16 - 15 Tran Bach Dang Street, Quarter 3, An Khanh Ward, Ho Chi Minh City
C3: Tel: +84-28-54047415 Fax: +84-28-54047420 Website: www.sitc.com
